BEGIN:VCALENDAR
VERSION:2.0
PRODID:-//All Aussie Training - ECPv6.15.20//NONSGML v1.0//EN
CALSCALE:GREGORIAN
METHOD:PUBLISH
X-WR-CALNAME:All Aussie Training
X-ORIGINAL-URL:https://allaussietraining.edu.au
X-WR-CALDESC:Events for All Aussie Training
REFRESH-INTERVAL;VALUE=DURATION:PT1H
X-Robots-Tag:noindex
X-PUBLISHED-TTL:PT1H
BEGIN:VTIMEZONE
TZID:Australia/Brisbane
BEGIN:STANDARD
TZOFFSETFROM:+1000
TZOFFSETTO:+1000
TZNAME:AEST
DTSTART:20250101T000000
END:STANDARD
END:VTIMEZONE
BEGIN:VEVENT
DTSTART;VALUE=DATE:20260430
DTEND;VALUE=DATE:20260505
DTSTAMP:20260424T114024
CREATED:20260221T051835Z
LAST-MODIFIED:20260221T051835Z
UID:1937-1777507200-1777939199@allaussietraining.edu.au
SUMMARY:HRWL: Non-Slewing Crane
DESCRIPTION:
URL:https://allaussietraining.edu.au/upcoming-course/hrwl-non-slewing-crane-31/
LOCATION:Moranbah
CATEGORIES:High Risk Work Licence Non-Slewing Crane (CN)
ATTACH;FMTTYPE=image/jpeg:https://allaussietraining.edu.au/wp-content/uploads/2024/07/Conduct-Non-Slewing-Crane-Operations.jpg
END:VEVENT
END:VCALENDAR